BEGIN:VCALENDAR
VERSION:2.0
PRODID:-//Ilustre Colegio Oficial de Graduados Sociales de Lanzarote. - ECPv6.15.18//NONSGML v1.0//EN
CALSCALE:GREGORIAN
METHOD:PUBLISH
X-ORIGINAL-URL:https://www.cgslanzarote.com
X-WR-CALDESC:Eventos para Ilustre Colegio Oficial de Graduados Sociales de Lanzarote.
REFRESH-INTERVAL;VALUE=DURATION:PT1H
X-Robots-Tag:noindex
X-PUBLISHED-TTL:PT1H
BEGIN:VTIMEZONE
TZID:UTC
BEGIN:STANDARD
TZOFFSETFROM:+0000
TZOFFSETTO:+0000
TZNAME:UTC
DTSTART:20250101T000000
END:STANDARD
END:VTIMEZONE
BEGIN:VEVENT
DTSTART;TZID=UTC:20260409T093000
DTEND;TZID=UTC:20260409T093000
DTSTAMP:20260422T131346
CREATED:20260313T110931Z
LAST-MODIFIED:20260313T110931Z
UID:10005-1775727000-1775727000@www.cgslanzarote.com
SUMMARY:DESAYUNO DE TRABAJO - INCLUSIÓN Y DERECHOS DE LAS PERSONAS CON DISCAPACIDAD
DESCRIPTION:
URL:https://www.cgslanzarote.com/event/desayuno-de-trabajo-inclusion-y-derechos-de-las-personas-con-discapacidad/
ATTACH;FMTTYPE=image/png:https://www.cgslanzarote.com/wp-content/uploads/2026/03/DESAYUNO-DE-TRABAJO-EL-VALOR-DE-LA-INCLUSION.png
END:VEVENT
END:VCALENDAR